BEGIN:VCALENDAR
CALSCALE:GREGORIAN
METHOD:PUBLISH
VERSION:2.0
PRODID:-//iCalWriter OpenSource Project//iCalWriter 0.8.1//EN
BEGIN:VEVENT
DTSTAMP:20260423T140119Z
UID:17769528797Q9z@kinderundjugendbuero.laatzen.de
DTSTART;VALUE=DATE:20261019
DTEND;VALUE=DATE:20261022
SUMMARY:Herbstfreizeit in der Windmühle Marienrode
DESCRIPTION:Einfach mal rauskommen, neue Leute kennenlernen und abseits von Schulklasse und Familie schöne Gruppenerlebnisse erfahren. Unter diesem Motto bietet das Kinder- und Jugendbüro eine Freizeit mit drei Übernachtungen im Jugendwanderheim „Windmühle“ in Marienrode (Hildesheim) an.
Neben klassischen Aktionen wie einer Nachtwanderung, Stockbrot und Gruppenspielen werden die Kinder gemeinsam Kochen, Wandern und vieles mehr. Betreut werden die Kinder von ehrenamtlichen Jugendleiter*innen sowie von pädagogischem Fachpersonal des Kinder- und Jugendbüros.
Die Kosten belaufen sich auf 90€ inklusive Übernachtung, Verpflegung und Programm. Die An- und Abreise erfolgt durch die Familien selbst. In begründeten Ausnahmefällen kann das Kinder- und Jugendbüro einen Shuttleservice organisieren. 
Weitere Informationen erteilt das Kinder- und Jugendbüro unter 0511 8205-9404 und kinderundjugendbuero(at)laatzen.de
LOCATION:Jugendwanderheim "Windmühle" Marienrode 31139 Hildesheim
Stadt Laatzen, Kinder- und Jugendbüro 30880 Laatzen
CATEGORIES:Eltern,Familie,Familien und Kinder,Ferien,Freizeiten,Für Laatzen,Kinder,Kinder- und Jugendbüro,Kinder- und Jugendtreff JuKa,Kindertreff Quatschkiste,Treffpunkt Buchte
URL:https://kinderundjugendbuero.laatzen.de/de/veranstaltungen/event/202593,1191/herbstfreizeit-in-der-windmuehle-marienrode-19-10-2026.html
ATTACH:https://kinderundjugendbuero.laatzen.de/de/datei/anzeigen/id/202594,1191/dsc_0588.jpg
END:VEVENT
END:VCALENDAR
