BEGIN:VCALENDAR
CALSCALE:GREGORIAN
METHOD:PUBLISH
VERSION:2.0
PRODID:-//iCalWriter OpenSource Project//iCalWriter 0.8.1//EN
BEGIN:VEVENT
DTSTAMP:20260424T190954Z
UID:1777057794sXpC@kinderundjugendbuero.laatzen.de
DTSTART:20200114T150000
DTEND:20200114T180000
SUMMARY:Ausflug in den Soccerpark
DESCRIPTION:Der Kindertreff Quatschkiste und der Kinder- und Jugendtreff Juka (Alt-Laatzen) bieten einen gemeinsamen Ausflug in den Soccerpark an. Wer mitkommen möchte meldet sich bitte in der Quatschkiste oder der Juka an.
Sportzeug und Getränk sind mitzubringen.
Kosten: 4 €
LOCATION:Kinder- und Jugendtreff Alt-Laatzen "JuKa" 30880 Laatzen / Alt-Laatzen
Kindertreff Quatschkiste 30860 Laatzen / Laatzen-Mitte
Kinder- und Jugendbüro 30880 Laatzen
CATEGORIES:Kinder,Kinder- und Jugendbüro,Kinder- und Jugendtreff JuKa,Kindertreff Quatschkiste
URL:https://kinderundjugendbuero.laatzen.de/de/veranstaltungen/event/112289,1191/ausflug-in-den-soccerpark-14-01-2020.html
ATTACH:https://kinderundjugendbuero.laatzen.de/de/datei/anzeigen/id/112290,1191/pixabay_football-412059_1920.jpg
END:VEVENT
END:VCALENDAR
